BEGIN:VCALENDAR
VERSION:2.0
PRODID:-//Grand Center Arts District - ECPv6.10.0//NONSGML v1.0//EN
CALSCALE:GREGORIAN
METHOD:PUBLISH
X-ORIGINAL-URL:https://www.grandcenter.org
X-WR-CALDESC:Events for Grand Center Arts District
REFRESH-INTERVAL;VALUE=DURATION:PT1H
X-Robots-Tag:noindex
X-PUBLISHED-TTL:PT1H
BEGIN:VTIMEZONE
TZID:America/Chicago
BEGIN:DAYLIGHT
TZOFFSETFROM:-0600
TZOFFSETTO:-0500
TZNAME:CDT
DTSTART:20260308T080000
END:DAYLIGHT
BEGIN:STANDARD
TZOFFSETFROM:-0500
TZOFFSETTO:-0600
TZNAME:CST
DTSTART:20261101T070000
END:STANDARD
END:VTIMEZONE
BEGIN:VEVENT
DTSTART;TZID=America/Chicago:20260214T190000
DTEND;TZID=America/Chicago:20260214T221500
DTSTAMP:20260423T040344
CREATED:20260204T195251Z
LAST-MODIFIED:20260204T195251Z
UID:32637-1771095600-1771107300@www.grandcenter.org
SUMMARY:Amadeus in Concert
DESCRIPTION:Experience Miloš Forman’s Academy Award-winning phenomenon Amadeus while the SLSO and St. Louis Symphony Chorus perform Mozart’s most celebrated works live to picture. This sumptuous period epic tells the gripping tale of Vienna court composer Antonio Salieri and his rivalry with the brilliant young composer Wolfgang Amadeus Mozart. Salieri’s envy fuels his plot to destroy the man\, all while being unable to tear himself away from the genius of Mozart’s music. Brought to life by the SLSO\, Amadeus in Concert is a soaring celebration of astonishing musical achievement.
URL:https://www.grandcenter.org/event/amadeus-in-concert/2026-02-14/
LOCATION:Saint Louis Symphony Orchestra at Powell Hall\, 718 N Grand Blvd\, St. Louis\, MO\, 63103\, United States
CATEGORIES:Music
ATTACH;FMTTYPE=image/jpeg:https://www.grandcenter.org/wp-content/uploads/2026/02/250416_LT_Amadeus-web-images_2000x2000.jpg
END:VEVENT
BEGIN:VEVENT
DTSTART;TZID=America/Chicago:20260213T190000
DTEND;TZID=America/Chicago:20260213T221500
DTSTAMP:20260423T040344
CREATED:20260204T195251Z
LAST-MODIFIED:20260204T200532Z
UID:32628-1771009200-1771020900@www.grandcenter.org
SUMMARY:Amadeus in Concert
DESCRIPTION:Experience Miloš Forman’s Academy Award-winning phenomenon Amadeus while the SLSO and St. Louis Symphony Chorus perform Mozart’s most celebrated works live to picture. This sumptuous period epic tells the gripping tale of Vienna court composer Antonio Salieri and his rivalry with the brilliant young composer Wolfgang Amadeus Mozart. Salieri’s envy fuels his plot to destroy the man\, all while being unable to tear himself away from the genius of Mozart’s music. Brought to life by the SLSO\, Amadeus in Concert is a soaring celebration of astonishing musical achievement.
URL:https://www.grandcenter.org/event/amadeus-in-concert/2026-02-13/
LOCATION:Saint Louis Symphony Orchestra at Powell Hall\, 718 N Grand Blvd\, St. Louis\, MO\, 63103\, United States
CATEGORIES:Music
ATTACH;FMTTYPE=image/jpeg:https://www.grandcenter.org/wp-content/uploads/2026/02/250416_LT_Amadeus-web-images_2000x2000.jpg
END:VEVENT
END:VCALENDAR