BEGIN:VCALENDAR
VERSION:2.0
PRODID:-//Grand Center Arts District - ECPv6.10.0//NONSGML v1.0//EN
CALSCALE:GREGORIAN
METHOD:PUBLISH
X-WR-CALNAME:Grand Center Arts District
X-ORIGINAL-URL:https://www.grandcenter.org
X-WR-CALDESC:Events for Grand Center Arts District
REFRESH-INTERVAL;VALUE=DURATION:PT1H
X-Robots-Tag:noindex
X-PUBLISHED-TTL:PT1H
BEGIN:VTIMEZONE
TZID:America/Chicago
BEGIN:DAYLIGHT
TZOFFSETFROM:-0600
TZOFFSETTO:-0500
TZNAME:CDT
DTSTART:20230312T080000
END:DAYLIGHT
BEGIN:STANDARD
TZOFFSETFROM:-0500
TZOFFSETTO:-0600
TZNAME:CST
DTSTART:20231105T070000
END:STANDARD
END:VTIMEZONE
BEGIN:VEVENT
DTSTART;TZID=America/Chicago:20230526T173000
DTEND;TZID=America/Chicago:20230526T213000
DTSTAMP:20260421T031924
CREATED:20230421T181153Z
LAST-MODIFIED:20230504T203632Z
UID:19642-1685122200-1685136600@www.grandcenter.org
SUMMARY:Emerson SPRING TO DANCE® Festival 2023
DESCRIPTION:15th Annual Emerson SPRING TO DANCE® Festival 2023 | May 26 & 27 | Fri & Sat\nDoors open at 5:30pm | 6pm Terrace Lobby Performances | 7:30pm Mainstage Performances in A-B Performance Hall\nPresented by Whitaker Foundation\n\n\n\n\n\n\n\n\n\n\n\n\nPURCHASE TICKETS\n\n\n\n\nTICKETS ARE ON SALE! \nThe Midwest region’s most celebrated dance festival returns for the 15th year! \nNationally touring professional companies from coast to coast flock to St. Louis to bestow their artistry. \nIt’s an unmatched buffet of dance\, featuring two days of nonstop dance from a wide array companies. \nAs one of the region’s must-see festivals\, SPRING TO DANCE® offers something for everyone\, from modern and ballet to contemporary\, flamenco and more\, with a distinct\, dynamic program each night. \n\n\n\n\n\n\n\n\n\nSINGLE TICKETS\nSingle tickets to Emerson SPRING TO DANCE Festival 2023 are on sale!\n$25 – Orchestra / Dress Circle\n$20 – Parterre\n$15 – Grand Tier \n4-PACK\nSave when you buy more!\n4-Pack for $75\n(Available in Orchestra\, Parterre & Dress Circle)
URL:https://www.grandcenter.org/event/emerson-spring-to-dance-festival-2023/2023-05-26/
LOCATION:Saint Louis Dance Theatre\, 3310 Samuel Shepard Dr.\, St. Louis\, MO\, United States
ATTACH;FMTTYPE=image/jpeg:https://www.grandcenter.org/wp-content/uploads/2023/04/DSC_4542.jpg
END:VEVENT
END:VCALENDAR